BEGIN:VCALENDAR
VERSION:2.0
PRODID:-//Plone.org//NONSGML plone.app.event//EN
X-WR-TIMEZONE:US/Central
BEGIN:VEVENT
SUMMARY:Valentine's Day Craft
DTSTART;TZID=US/Central:20230204T130000
DTEND;TZID=US/Central:20230204T140000
DTSTAMP:20260422T070244Z
UID:cc07b2e9f35746cda93c0d9a770f7bad@saas_stack_varnish:6080
CONTACT:409-986-7814\, hitchcockpubliclibrary@gmail.com
CREATED:20230124T184755Z
LAST-MODIFIED:20230124T213833Z
LOCATION:Hitchcock Public Library
URL:https://hitchcock.ploud.net/valentines-dasy-craft
END:VEVENT
BEGIN:VTIMEZONE
TZID:US/Central
X-LIC-LOCATION:US/Central
BEGIN:STANDARD
DTSTART:20221106T010000
TZNAME:CST
TZOFFSETFROM:-0500
TZOFFSETTO:-0600
END:STANDARD
END:VTIMEZONE
END:VCALENDAR
