BEGIN:VCALENDAR
VERSION:2.0
PRODID:-//Plone.org//NONSGML plone.app.event//EN
X-WR-TIMEZONE:US/Central
BEGIN:VEVENT
SUMMARY:Trunk or Treat
DTSTART;TZID=US/Central:20231028T150000
DTEND;TZID=US/Central:20231028T170000
DTSTAMP:20260422T070412Z
UID:04693638e15a4b378cee636d2c9b3149@saas_stack_varnish:6080
CONTACT:409-986-7814\, hitchcockpubliclibrary@gmail.com
CREATED:20230816T152858Z
LAST-MODIFIED:20230816T152912Z
LOCATION:Hitchcock Public Library
URL:https://hitchcock.ploud.net/trunk-or-treat
END:VEVENT
BEGIN:VTIMEZONE
TZID:US/Central
X-LIC-LOCATION:US/Central
BEGIN:DAYLIGHT
DTSTART:20230312T030000
TZNAME:CDT
TZOFFSETFROM:-0600
TZOFFSETTO:-0500
END:DAYLIGHT
END:VTIMEZONE
END:VCALENDAR
