BEGIN:VCALENDAR
VERSION:2.0
PRODID:-//Plone.org//NONSGML plone.app.event//EN
X-WR-TIMEZONE:US/Central
BEGIN:VEVENT
SUMMARY:Thanksgiving Craft
DTSTART;TZID=US/Central:20231118T130000
DTEND;TZID=US/Central:20231118T140000
DTSTAMP:20260422T051559Z
UID:2350ab410d844834940156926e63159f@saas_stack_varnish:6080
CONTACT:Brittany Tatyrek\, 409-986-7814\, hitchcockpubliclibrary@gmail.com
CREATED:20231020T160105Z
LAST-MODIFIED:20231102T180809Z
LOCATION:Hitchcock Public Library
URL:https://hitchcock.ploud.net/thanksgiving-craft
END:VEVENT
BEGIN:VTIMEZONE
TZID:US/Central
X-LIC-LOCATION:US/Central
BEGIN:STANDARD
DTSTART:20231105T010000
TZNAME:CST
TZOFFSETFROM:-0500
TZOFFSETTO:-0600
END:STANDARD
END:VTIMEZONE
END:VCALENDAR
