BEGIN:VCALENDAR
VERSION:2.0
PRODID:-//Plone.org//NONSGML plone.app.event//EN
X-WR-TIMEZONE:US/Central
BEGIN:VEVENT
SUMMARY:Teen Day
DTSTART;TZID=US/Central:20231214T170000
DTEND;TZID=US/Central:20231214T180000
DTSTAMP:20260424T083459Z
UID:fd2d58bd1f4641beafbd872045f1eaf9@saas_stack_varnish:6080
CONTACT:Brittany Tatyrek\, 409-986-7814\, hitchcockpubliclibrary@gmail.com
CREATED:20231129T164831Z
LAST-MODIFIED:20231129T164836Z
LOCATION:Hitchcock Public Library
URL:https://hitchcock.ploud.net/teen-day-6
END:VEVENT
BEGIN:VTIMEZONE
TZID:US/Central
X-LIC-LOCATION:US/Central
BEGIN:STANDARD
DTSTART:20231105T010000
TZNAME:CST
TZOFFSETFROM:-0500
TZOFFSETTO:-0600
END:STANDARD
END:VTIMEZONE
END:VCALENDAR
