BEGIN:VCALENDAR
VERSION:2.0
PRODID:-//Plone.org//NONSGML plone.app.event//EN
X-WR-TIMEZONE:US/Central
BEGIN:VEVENT
SUMMARY:Teen Day
DTSTART;TZID=US/Central:20231116T170000
DTEND;TZID=US/Central:20231116T180000
DTSTAMP:20260422T070552Z
UID:d22b07c8d9374ccab6f8d481622aadd0@saas_stack_varnish:6080
CONTACT:Brittany Tatyrek\, 409-986-7814\, hitchcockpubliclibrary@gmail.com
CREATED:20231020T155704Z
LAST-MODIFIED:20231020T155709Z
LOCATION:Hitchcock Public Library
URL:https://hitchcock.ploud.net/teen-day-5
END:VEVENT
BEGIN:VTIMEZONE
TZID:US/Central
X-LIC-LOCATION:US/Central
BEGIN:STANDARD
DTSTART:20231105T010000
TZNAME:CST
TZOFFSETFROM:-0500
TZOFFSETTO:-0600
END:STANDARD
END:VTIMEZONE
END:VCALENDAR
