BEGIN:VCALENDAR
VERSION:2.0
PRODID:-//Plone.org//NONSGML plone.app.event//EN
X-WR-TIMEZONE:US/Central
BEGIN:VEVENT
SUMMARY:Teen Day
DTSTART;TZID=US/Central:20230921T170000
DTEND;TZID=US/Central:20230921T180000
DTSTAMP:20260422T070545Z
UID:9956bea444f048568119d51f76a59f6a@saas_stack_varnish:6080
CONTACT:Brittany Tatyrek\, 409-986-7814\, hitchcockpubliclibrary@gmail.com
CREATED:20230811T172910Z
LAST-MODIFIED:20230811T172917Z
LOCATION:Hitchcock Public Library
URL:https://hitchcock.ploud.net/teen-day-3
END:VEVENT
BEGIN:VTIMEZONE
TZID:US/Central
X-LIC-LOCATION:US/Central
BEGIN:DAYLIGHT
DTSTART:20230312T030000
TZNAME:CDT
TZOFFSETFROM:-0600
TZOFFSETTO:-0500
END:DAYLIGHT
END:VTIMEZONE
END:VCALENDAR
