BEGIN:VCALENDAR
VERSION:2.0
PRODID:-//Plone.org//NONSGML plone.app.event//EN
X-WR-TIMEZONE:US/Central
BEGIN:VEVENT
SUMMARY:Teen Day
DTSTART;TZID=US/Central:20230118T160000
DTEND;TZID=US/Central:20230118T170000
DTSTAMP:20260422T071802Z
UID:a9a8b011d747496dab37f948b7ec1328@saas_stack_varnish:6080
CONTACT:409-986-7814\, hitchcockpubliclibrary@gmail.com
CREATED:20230105T161746Z
LAST-MODIFIED:20230105T161750Z
LOCATION:Hitchcock Public Library
URL:https://hitchcock.ploud.net/teen-day-1
END:VEVENT
BEGIN:VTIMEZONE
TZID:US/Central
X-LIC-LOCATION:US/Central
BEGIN:STANDARD
DTSTART:20221106T010000
TZNAME:CST
TZOFFSETFROM:-0500
TZOFFSETTO:-0600
END:STANDARD
END:VTIMEZONE
END:VCALENDAR
