BEGIN:VCALENDAR
VERSION:2.0
PRODID:-//Plone.org//NONSGML plone.app.event//EN
X-WR-TIMEZONE:US/Central
BEGIN:VEVENT
SUMMARY:Teddy Bear Sleep Over
DTSTART;TZID=US/Central:20230319T110000
DTEND;TZID=US/Central:20230325T150000
DTSTAMP:20260422T070141Z
UID:d6dd4efa49044bea98086ac7e9d58a6a@saas_stack_varnish:6080
CONTACT:409-986-7814\, hitchcockpubliclibrary@gmail.com
CREATED:20230307T190559Z
LAST-MODIFIED:20230307T190606Z
LOCATION:Hitchcock Public Library
URL:https://hitchcock.ploud.net/teddy-bear-sleep-over
END:VEVENT
BEGIN:VTIMEZONE
TZID:US/Central
X-LIC-LOCATION:US/Central
BEGIN:DAYLIGHT
DTSTART:20230312T030000
TZNAME:CDT
TZOFFSETFROM:-0600
TZOFFSETTO:-0500
END:DAYLIGHT
END:VTIMEZONE
END:VCALENDAR
