BEGIN:VCALENDAR
VERSION:2.0
PRODID:-//Plone.org//NONSGML plone.app.event//EN
X-WR-TIMEZONE:US/Central
BEGIN:VEVENT
SUMMARY:Storytime - Winter
DTSTART;TZID=US/Central:20230105T103000
DTEND;TZID=US/Central:20230105T110000
DTSTAMP:20260424T101935Z
UID:d048f0acc56644c0a7dc7202a08f2469@saas_stack_varnish:6080
ATTENDEE;CN="Ages 1-6";ROLE=REQ-PARTICIPANT:Ages 1-6
CONTACT:409-986-7814\, hitchcockpubliclibrary@gmail.com
CREATED:20230105T161131Z
LAST-MODIFIED:20230124T183218Z
LOCATION:Hitchcock Public Library
URL:https://hitchcock.ploud.net/storytime-winter
END:VEVENT
BEGIN:VTIMEZONE
TZID:US/Central
X-LIC-LOCATION:US/Central
BEGIN:STANDARD
DTSTART:20221106T010000
TZNAME:CST
TZOFFSETFROM:-0500
TZOFFSETTO:-0600
END:STANDARD
END:VTIMEZONE
END:VCALENDAR
