BEGIN:VCALENDAR
VERSION:2.0
PRODID:-//Plone.org//NONSGML plone.app.event//EN
X-WR-TIMEZONE:US/Central
BEGIN:VEVENT
SUMMARY:Storytime - Turkeys
DTSTART;TZID=US/Central:20231109T103000
DTEND;TZID=US/Central:20231109T110000
DTSTAMP:20260422T070826Z
UID:aa8f7979663746a28b55ed72fee550dd@saas_stack_varnish:6080
CONTACT:Brittany Tatyrek\, 409-986-7814\, hitchcockpubliclibrary@gmail.com
CREATED:20231020T155313Z
LAST-MODIFIED:20231020T155325Z
LOCATION:Hitchcock Public Library
URL:https://hitchcock.ploud.net/storytime-turkeys
END:VEVENT
BEGIN:VTIMEZONE
TZID:US/Central
X-LIC-LOCATION:US/Central
BEGIN:STANDARD
DTSTART:20231105T010000
TZNAME:CST
TZOFFSETFROM:-0500
TZOFFSETTO:-0600
END:STANDARD
END:VTIMEZONE
END:VCALENDAR
