BEGIN:VCALENDAR
VERSION:2.0
PRODID:-//Plone.org//NONSGML plone.app.event//EN
X-WR-TIMEZONE:US/Central
BEGIN:VEVENT
SUMMARY:Storytime - Spring
DTSTART;TZID=US/Central:20230323T103000
DTEND;TZID=US/Central:20230323T110000
DTSTAMP:20260422T052200Z
UID:41bd4a6c0b4a4f9ba1d15ffa27da29a4@saas_stack_varnish:6080
CONTACT:409-986-7814\, hitchcockpubliclibrary@gmail.com
CREATED:20230307T191636Z
LAST-MODIFIED:20230307T191644Z
LOCATION:Hitchcock Public Library
URL:https://hitchcock.ploud.net/storytime-spring
END:VEVENT
BEGIN:VTIMEZONE
TZID:US/Central
X-LIC-LOCATION:US/Central
BEGIN:DAYLIGHT
DTSTART:20230312T030000
TZNAME:CDT
TZOFFSETFROM:-0600
TZOFFSETTO:-0500
END:DAYLIGHT
END:VTIMEZONE
END:VCALENDAR
