BEGIN:VCALENDAR
VERSION:2.0
PRODID:-//Plone.org//NONSGML plone.app.event//EN
X-WR-TIMEZONE:US/Central
BEGIN:VEVENT
SUMMARY:Storytime - Shapes
DTSTART;TZID=US/Central:20230126T103000
DTEND;TZID=US/Central:20230126T110000
DTSTAMP:20260422T083452Z
UID:9478e74a621343be99e9b5ecf882a9a1@saas_stack_varnish:6080
CONTACT:409-986-7814\, hitchcockpubliclibrary@gmail.com
CREATED:20230105T162620Z
LAST-MODIFIED:20230105T162709Z
LOCATION:Hitchcock Public Library
URL:https://hitchcock.ploud.net/storytime-shapes
END:VEVENT
BEGIN:VTIMEZONE
TZID:US/Central
X-LIC-LOCATION:US/Central
BEGIN:STANDARD
DTSTART:20221106T010000
TZNAME:CST
TZOFFSETFROM:-0500
TZOFFSETTO:-0600
END:STANDARD
END:VTIMEZONE
END:VCALENDAR
