BEGIN:VCALENDAR
VERSION:2.0
PRODID:-//Plone.org//NONSGML plone.app.event//EN
X-WR-TIMEZONE:US/Central
BEGIN:VEVENT
SUMMARY:Storytime - Santa
DTSTART;TZID=US/Central:20221215T103000
DTEND;TZID=US/Central:20221215T110000
DTSTAMP:20260422T070142Z
UID:39aef08d57cb4347a786e99464aa52e6@saas_stack_varnish:6080
CONTACT:409-986-7814\, hitchcockpubliclibrary@gmail.com
CREATED:20221129T194211Z
LAST-MODIFIED:20221129T194222Z
LOCATION:Hitchcock Public Library
URL:https://hitchcock.ploud.net/storytime-santa
END:VEVENT
BEGIN:VTIMEZONE
TZID:US/Central
X-LIC-LOCATION:US/Central
BEGIN:STANDARD
DTSTART:20221106T010000
TZNAME:CST
TZOFFSETFROM:-0500
TZOFFSETTO:-0600
END:STANDARD
END:VTIMEZONE
END:VCALENDAR
