BEGIN:VCALENDAR
VERSION:2.0
PRODID:-//Plone.org//NONSGML plone.app.event//EN
X-WR-TIMEZONE:US/Central
BEGIN:VEVENT
SUMMARY:Storytime - Santa
DTSTART;TZID=US/Central:20231214T103000
DTEND;TZID=US/Central:20231214T110000
DTSTAMP:20260422T084704Z
UID:96c037a2f0ec4fdda39e4e722697f746@saas_stack_varnish:6080
CONTACT:Brittany Tatyrek\, 409-986-7814\, hitchcockpubliclibrary@gmail.com
CREATED:20231129T165053Z
LAST-MODIFIED:20231129T165058Z
LOCATION:Hitchcock Public Library
URL:https://hitchcock.ploud.net/storytime-santa-1
END:VEVENT
BEGIN:VTIMEZONE
TZID:US/Central
X-LIC-LOCATION:US/Central
BEGIN:STANDARD
DTSTART:20231105T010000
TZNAME:CST
TZOFFSETFROM:-0500
TZOFFSETTO:-0600
END:STANDARD
END:VTIMEZONE
END:VCALENDAR
