BEGIN:VCALENDAR
VERSION:2.0
PRODID:-//Plone.org//NONSGML plone.app.event//EN
X-WR-TIMEZONE:US/Central
BEGIN:VEVENT
SUMMARY:Storytime - Reindeer
DTSTART;TZID=US/Central:20221208T103000
DTEND;TZID=US/Central:20221208T110000
DTSTAMP:20260422T070325Z
UID:3f7539def1e344a48510a589e5808054@saas_stack_varnish:6080
CONTACT:409-986-7814\, hitchcockpubliclibrary@gmail.com
CREATED:20221129T173829Z
LAST-MODIFIED:20221129T173834Z
LOCATION:Hitchcock Public Library
URL:https://hitchcock.ploud.net/storytime-reindeer
END:VEVENT
BEGIN:VTIMEZONE
TZID:US/Central
X-LIC-LOCATION:US/Central
BEGIN:STANDARD
DTSTART:20221106T010000
TZNAME:CST
TZOFFSETFROM:-0500
TZOFFSETTO:-0600
END:STANDARD
END:VTIMEZONE
END:VCALENDAR
