BEGIN:VCALENDAR
VERSION:2.0
PRODID:-//Plone.org//NONSGML plone.app.event//EN
X-WR-TIMEZONE:US/Central
BEGIN:VEVENT
SUMMARY:Storytime - Read Across America
DTSTART;TZID=US/Central:20230302T103000
DTEND;TZID=US/Central:20230302T110000
DTSTAMP:20260424T102231Z
UID:7801237fcb6948e08f390337b914155d@saas_stack_varnish:6080
CONTACT:409-986-7814\, hitchcockpubliclibrary@gmail.com
CREATED:20230304T201951Z
LAST-MODIFIED:20230304T201956Z
LOCATION:Hitchcock Public Library
URL:https://hitchcock.ploud.net/storytime-read-across-america
END:VEVENT
BEGIN:VTIMEZONE
TZID:US/Central
X-LIC-LOCATION:US/Central
BEGIN:STANDARD
DTSTART:20221106T010000
TZNAME:CST
TZOFFSETFROM:-0500
TZOFFSETTO:-0600
END:STANDARD
END:VTIMEZONE
END:VCALENDAR
