BEGIN:VCALENDAR
VERSION:2.0
PRODID:-//Plone.org//NONSGML plone.app.event//EN
X-WR-TIMEZONE:US/Central
BEGIN:VEVENT
SUMMARY:Storytime - Rainbow
DTSTART;TZID=US/Central:20230309T103000
DTEND;TZID=US/Central:20230309T110000
DTSTAMP:20260424T101847Z
UID:1444b1af825b4af3905c80f863ad018b@saas_stack_varnish:6080
CONTACT:409-986-7814\, hitchcockpubliclibrary@gmail.com
CREATED:20230304T202820Z
LAST-MODIFIED:20230304T202827Z
LOCATION:Hitchcock Public Library
URL:https://hitchcock.ploud.net/storytime-rainbow
END:VEVENT
BEGIN:VTIMEZONE
TZID:US/Central
X-LIC-LOCATION:US/Central
BEGIN:STANDARD
DTSTART:20221106T010000
TZNAME:CST
TZOFFSETFROM:-0500
TZOFFSETTO:-0600
END:STANDARD
END:VTIMEZONE
END:VCALENDAR
