BEGIN:VCALENDAR
VERSION:2.0
PRODID:-//Plone.org//NONSGML plone.app.event//EN
X-WR-TIMEZONE:US/Central
BEGIN:VEVENT
SUMMARY:Storytime - New Years
DTSTART;TZID=US/Central:20231228T103000
DTEND;TZID=US/Central:20231228T110000
DTSTAMP:20260422T070513Z
UID:94b28d8ac3c44603b1f77355026324cc@saas_stack_varnish:6080
CONTACT:Brittany Tatyrek\, 409-986-7814\, hitchcockpubliclibrary@gmail.com
CREATED:20231129T170100Z
LAST-MODIFIED:20231129T170107Z
LOCATION:Hitchcock Public Library
URL:https://hitchcock.ploud.net/storytime-new-years
END:VEVENT
BEGIN:VTIMEZONE
TZID:US/Central
X-LIC-LOCATION:US/Central
BEGIN:STANDARD
DTSTART:20231105T010000
TZNAME:CST
TZOFFSETFROM:-0500
TZOFFSETTO:-0600
END:STANDARD
END:VTIMEZONE
END:VCALENDAR
