BEGIN:VCALENDAR
VERSION:2.0
PRODID:-//Plone.org//NONSGML plone.app.event//EN
X-WR-TIMEZONE:US/Central
BEGIN:VEVENT
SUMMARY:Storytime - New Year
DTSTART;TZID=US/Central:20221229T103000
DTEND;TZID=US/Central:20221229T110000
DTSTAMP:20260422T070514Z
UID:a47599774c7c4dd5b199e051d09fd557@saas_stack_varnish:6080
CONTACT:409-986-7814\, hitchcockpubliclibrary@gmail.com
CREATED:20221129T200516Z
LAST-MODIFIED:20221129T200719Z
LOCATION:Hitchcock Public Library
URL:https://hitchcock.ploud.net/storytime-new-year
END:VEVENT
BEGIN:VTIMEZONE
TZID:US/Central
X-LIC-LOCATION:US/Central
BEGIN:STANDARD
DTSTART:20221106T010000
TZNAME:CST
TZOFFSETFROM:-0500
TZOFFSETTO:-0600
END:STANDARD
END:VTIMEZONE
END:VCALENDAR
