BEGIN:VCALENDAR
VERSION:2.0
PRODID:-//Plone.org//NONSGML plone.app.event//EN
X-WR-TIMEZONE:US/Central
BEGIN:VEVENT
SUMMARY:Storytime - Grandparents
DTSTART;TZID=US/Central:20230907T103000
DTEND;TZID=US/Central:20230907T110000
DTSTAMP:20260422T053553Z
UID:2246fe7f8fec407f9da9a958c9eedc82@saas_stack_varnish:6080
CONTACT:Brittany Tatyrek\, 409-986-7814\, hitchcockpubliclibrary@gmail.com
CREATED:20230811T165539Z
LAST-MODIFIED:20230811T165637Z
LOCATION:Hitchcock Public Library
URL:https://hitchcock.ploud.net/storytime-grandparents
END:VEVENT
BEGIN:VTIMEZONE
TZID:US/Central
X-LIC-LOCATION:US/Central
BEGIN:DAYLIGHT
DTSTART:20230312T030000
TZNAME:CDT
TZOFFSETFROM:-0600
TZOFFSETTO:-0500
END:DAYLIGHT
END:VTIMEZONE
END:VCALENDAR
