BEGIN:VCALENDAR
VERSION:2.0
PRODID:-//Plone.org//NONSGML plone.app.event//EN
X-WR-TIMEZONE:US/Central
BEGIN:VEVENT
SUMMARY:Storytime - Garden
DTSTART;TZID=US/Central:20230427T103000
DTEND;TZID=US/Central:20230427T110000
DTSTAMP:20260422T071105Z
UID:2e8ee354828848618237f0889758458f@saas_stack_varnish:6080
CONTACT:409-986-7814\, hitchcockpubliclibrary@gmail.com
CREATED:20230329T202459Z
LAST-MODIFIED:20230329T202505Z
LOCATION:Hitchcock Public Library
URL:https://hitchcock.ploud.net/storytime-garden
END:VEVENT
BEGIN:VTIMEZONE
TZID:US/Central
X-LIC-LOCATION:US/Central
BEGIN:DAYLIGHT
DTSTART:20230312T030000
TZNAME:CDT
TZOFFSETFROM:-0600
TZOFFSETTO:-0500
END:DAYLIGHT
END:VTIMEZONE
END:VCALENDAR
