BEGIN:VCALENDAR
VERSION:2.0
PRODID:-//Plone.org//NONSGML plone.app.event//EN
X-WR-TIMEZONE:US/Central
BEGIN:VEVENT
SUMMARY:Storytime - Friendly Monsters
DTSTART;TZID=US/Central:20231019T103000
DTEND;TZID=US/Central:20231019T110000
DTSTAMP:20260422T070115Z
UID:fae3dac3d3ba4f2aa39b336c7b8a9558@saas_stack_varnish:6080
CONTACT:Brittany Tatyrek\, 409-986-7814\, hitchcockpubliclibrary@gmail.com
CREATED:20230928T190722Z
LAST-MODIFIED:20230928T190731Z
LOCATION:Hitchcock Public Library
URL:https://hitchcock.ploud.net/storytime-friendly-monsters
END:VEVENT
BEGIN:VTIMEZONE
TZID:US/Central
X-LIC-LOCATION:US/Central
BEGIN:DAYLIGHT
DTSTART:20230312T030000
TZNAME:CDT
TZOFFSETFROM:-0600
TZOFFSETTO:-0500
END:DAYLIGHT
END:VTIMEZONE
END:VCALENDAR
