BEGIN:VCALENDAR
VERSION:2.0
PRODID:-//Plone.org//NONSGML plone.app.event//EN
X-WR-TIMEZONE:US/Central
BEGIN:VEVENT
SUMMARY:Storytime - Farm
DTSTART;TZID=US/Central:20230928T103000
DTEND;TZID=US/Central:20230928T110000
DTSTAMP:20260422T064653Z
UID:a5049eee1ce541de9ecdbf9ec09f9e2f@saas_stack_varnish:6080
CONTACT:Brittany Tatyrek\, 409-986-7814\, hitchcockpubliclibrary@gmail.com
CREATED:20230811T172313Z
LAST-MODIFIED:20230811T172322Z
LOCATION:Hitchcock Public Library
URL:https://hitchcock.ploud.net/storytime-farm
END:VEVENT
BEGIN:VTIMEZONE
TZID:US/Central
X-LIC-LOCATION:US/Central
BEGIN:DAYLIGHT
DTSTART:20230312T030000
TZNAME:CDT
TZOFFSETFROM:-0600
TZOFFSETTO:-0500
END:DAYLIGHT
END:VTIMEZONE
END:VCALENDAR
