BEGIN:VCALENDAR
VERSION:2.0
PRODID:-//Plone.org//NONSGML plone.app.event//EN
X-WR-TIMEZONE:US/Central
BEGIN:VEVENT
SUMMARY:Storytime - Family
DTSTART;TZID=US/Central:20230223T103000
DTEND;TZID=US/Central:20230223T113000
DTSTAMP:20260422T082358Z
UID:b83c9f6dc6374649b2cc6296befadeb8@saas_stack_varnish:6080
CONTACT:409-986-7814\, hitchcockpubliclibrary@gmail.com
CREATED:20230124T193938Z
LAST-MODIFIED:20230124T194151Z
LOCATION:Hitchcock Public Library
URL:https://hitchcock.ploud.net/storytime-family
END:VEVENT
BEGIN:VTIMEZONE
TZID:US/Central
X-LIC-LOCATION:US/Central
BEGIN:STANDARD
DTSTART:20221106T010000
TZNAME:CST
TZOFFSETFROM:-0500
TZOFFSETTO:-0600
END:STANDARD
END:VTIMEZONE
END:VCALENDAR
