BEGIN:VCALENDAR
VERSION:2.0
PRODID:-//Plone.org//NONSGML plone.app.event//EN
X-WR-TIMEZONE:US/Central
BEGIN:VEVENT
SUMMARY:Storytime - Fall
DTSTART;TZID=US/Central:20231012T103000
DTEND;TZID=US/Central:20231012T110000
DTSTAMP:20260422T052146Z
UID:521fbf250b344da292a78a2fb9459bed@saas_stack_varnish:6080
CONTACT:Brittany Tatyrek\, 409-986-7814\, hitchcockpubliclibrary@gmail.com
CREATED:20230928T184551Z
LAST-MODIFIED:20230928T184559Z
LOCATION:Hitchcock Public Library
URL:https://hitchcock.ploud.net/storytime-fall
END:VEVENT
BEGIN:VTIMEZONE
TZID:US/Central
X-LIC-LOCATION:US/Central
BEGIN:DAYLIGHT
DTSTART:20230312T030000
TZNAME:CDT
TZOFFSETFROM:-0600
TZOFFSETTO:-0500
END:DAYLIGHT
END:VTIMEZONE
END:VCALENDAR
