BEGIN:VCALENDAR
VERSION:2.0
PRODID:-//Plone.org//NONSGML plone.app.event//EN
X-WR-TIMEZONE:US/Central
BEGIN:VEVENT
SUMMARY:Storytime - Day of the Dead
DTSTART;TZID=US/Central:20231102T103000
DTEND;TZID=US/Central:20231102T110000
DTSTAMP:20260422T103643Z
UID:63c984a022114dd2a885fae19a976929@saas_stack_varnish:6080
CONTACT:Brittany Tatyrek\, 409-986-7814\, hitchcockpubliclibrary@gmail.com
CREATED:20231010T205034Z
LAST-MODIFIED:20231010T205045Z
LOCATION:Hitchcock Public Library
URL:https://hitchcock.ploud.net/storytime-day-of-the-dead
END:VEVENT
BEGIN:VTIMEZONE
TZID:US/Central
X-LIC-LOCATION:US/Central
BEGIN:DAYLIGHT
DTSTART:20230312T030000
TZNAME:CDT
TZOFFSETFROM:-0600
TZOFFSETTO:-0500
END:DAYLIGHT
END:VTIMEZONE
END:VCALENDAR
