BEGIN:VCALENDAR
VERSION:2.0
PRODID:-//Plone.org//NONSGML plone.app.event//EN
X-WR-TIMEZONE:US/Central
BEGIN:VEVENT
SUMMARY:Storytime - Christmas
DTSTART;TZID=US/Central:20221222T103000
DTEND;TZID=US/Central:20221222T110000
DTSTAMP:20260422T070238Z
UID:960f628e8c174a22ab5dc247186d2b7b@saas_stack_varnish:6080
CONTACT:409-986-7814\, hitchcockpubliclibrary@gmail.com
CREATED:20221129T194517Z
LAST-MODIFIED:20221129T194522Z
LOCATION:Hitchcock Public Library
URL:https://hitchcock.ploud.net/storytime-christmas
END:VEVENT
BEGIN:VTIMEZONE
TZID:US/Central
X-LIC-LOCATION:US/Central
BEGIN:STANDARD
DTSTART:20221106T010000
TZNAME:CST
TZOFFSETFROM:-0500
TZOFFSETTO:-0600
END:STANDARD
END:VTIMEZONE
END:VCALENDAR
