BEGIN:VCALENDAR
VERSION:2.0
PRODID:-//Plone.org//NONSGML plone.app.event//EN
X-WR-TIMEZONE:US/Central
BEGIN:VEVENT
SUMMARY:storytime - Christmas Trees
DTSTART;TZID=US/Central:20221201T103000
DTEND;TZID=US/Central:20221201T110000
DTSTAMP:20260422T090128Z
UID:14d55238f6134bc3a14d5e915a6c0f52@saas_stack_varnish:6080
CONTACT:409-986-7814\, hitchcockpubliclibrary@gmail.com
CREATED:20221129T170800Z
LAST-MODIFIED:20221129T170811Z
LOCATION:Hitchcock Public Library
URL:https://hitchcock.ploud.net/storytime-christmas-trees
END:VEVENT
BEGIN:VTIMEZONE
TZID:US/Central
X-LIC-LOCATION:US/Central
BEGIN:STANDARD
DTSTART:20221106T010000
TZNAME:CST
TZOFFSETFROM:-0500
TZOFFSETTO:-0600
END:STANDARD
END:VTIMEZONE
END:VCALENDAR
