BEGIN:VCALENDAR
VERSION:2.0
PRODID:-//Plone.org//NONSGML plone.app.event//EN
X-WR-TIMEZONE:US/Central
BEGIN:VEVENT
SUMMARY:Storytime - Christmas
DTSTART;TZID=US/Central:20231207T103000
DTEND;TZID=US/Central:20231207T110000
DTSTAMP:20260422T084137Z
UID:1eb4854894a24e0580088c94f79b63a7@saas_stack_varnish:6080
CONTACT:Brittany Tatyrek\, 409-986-7814\, hitchcockpubliclibrary@gmail.com
CREATED:20231129T163437Z
LAST-MODIFIED:20231129T163442Z
LOCATION:Hitchcock Public Library
URL:https://hitchcock.ploud.net/storytime-christmas-1
END:VEVENT
BEGIN:VTIMEZONE
TZID:US/Central
X-LIC-LOCATION:US/Central
BEGIN:STANDARD
DTSTART:20231105T010000
TZNAME:CST
TZOFFSETFROM:-0500
TZOFFSETTO:-0600
END:STANDARD
END:VTIMEZONE
END:VCALENDAR
