BEGIN:VCALENDAR
VERSION:2.0
PRODID:-//Plone.org//NONSGML plone.app.event//EN
X-WR-TIMEZONE:US/Central
BEGIN:VEVENT
SUMMARY:Storytime - Butterfly
DTSTART;TZID=US/Central:20230413T103000
DTEND;TZID=US/Central:20230413T110000
DTSTAMP:20260422T071008Z
UID:51a0b8e8b29946c7b6cbef09af0bb3cd@saas_stack_varnish:6080
CONTACT:409-986-7814\, hitchcockpubliclibrary@gmail.com
CREATED:20230329T200244Z
LAST-MODIFIED:20230329T200357Z
LOCATION:Hitchcock Public Library
URL:https://hitchcock.ploud.net/storytime-butterfly
END:VEVENT
BEGIN:VTIMEZONE
TZID:US/Central
X-LIC-LOCATION:US/Central
BEGIN:DAYLIGHT
DTSTART:20230312T030000
TZNAME:CDT
TZOFFSETFROM:-0600
TZOFFSETTO:-0500
END:DAYLIGHT
END:VTIMEZONE
END:VCALENDAR
