BEGIN:VCALENDAR
VERSION:2.0
PRODID:-//Plone.org//NONSGML plone.app.event//EN
X-WR-TIMEZONE:US/Central
BEGIN:VEVENT
SUMMARY:Storytime - Bugs
DTSTART;TZID=US/Central:20230518T103000
DTEND;TZID=US/Central:20230518T110000
DTSTAMP:20260422T052254Z
UID:2c2df1395a7f4ac992b1c31198eea72b@saas_stack_varnish:6080
CONTACT:409-986-7814\, hitchcockpubliclibrary@gmail.com
CREATED:20230503T161908Z
LAST-MODIFIED:20230503T161913Z
LOCATION:Hitchcock Public Library
URL:https://hitchcock.ploud.net/storytime-bugs
END:VEVENT
BEGIN:VTIMEZONE
TZID:US/Central
X-LIC-LOCATION:US/Central
BEGIN:DAYLIGHT
DTSTART:20230312T030000
TZNAME:CDT
TZOFFSETFROM:-0600
TZOFFSETTO:-0500
END:DAYLIGHT
END:VTIMEZONE
END:VCALENDAR
