BEGIN:VCALENDAR
VERSION:2.0
PRODID:-//Plone.org//NONSGML plone.app.event//EN
X-WR-TIMEZONE:US/Central
BEGIN:VEVENT
SUMMARY:Storytime - Alphabet
DTSTART;TZID=US/Central:20230914T103000
DTEND;TZID=US/Central:20230914T110000
DTSTAMP:20260422T064810Z
UID:53e105a2aca8496b96d6e948e5fb1406@saas_stack_varnish:6080
CONTACT:Brittany Tatyrek\, 409-986-7814\, hitchcockpubliclibrary@gmail.com
CREATED:20230811T170239Z
LAST-MODIFIED:20230811T170248Z
LOCATION:Hitchcock Public Library
URL:https://hitchcock.ploud.net/storytime-alphabet
END:VEVENT
BEGIN:VTIMEZONE
TZID:US/Central
X-LIC-LOCATION:US/Central
BEGIN:DAYLIGHT
DTSTART:20230312T030000
TZNAME:CDT
TZOFFSETFROM:-0600
TZOFFSETTO:-0500
END:DAYLIGHT
END:VTIMEZONE
END:VCALENDAR
