BEGIN:VCALENDAR
VERSION:2.0
PRODID:-//Plone.org//NONSGML plone.app.event//EN
X-WR-TIMEZONE:US/Central
BEGIN:VEVENT
SUMMARY:Storytime
DTSTART;TZID=US/Central:20230615T103000
DTEND;TZID=US/Central:20230615T110000
DTSTAMP:20260422T052443Z
UID:a988baaf14b44ebe9e3fee6bf506b2c7@saas_stack_varnish:6080
CONTACT:409-986-7814\, hitchcockpubliclibrary@gmail.com
CREATED:20230512T170006Z
LAST-MODIFIED:20230512T171100Z
LOCATION:Hitchcock Public Library
URL:https://hitchcock.ploud.net/storytime-2
END:VEVENT
BEGIN:VTIMEZONE
TZID:US/Central
X-LIC-LOCATION:US/Central
BEGIN:DAYLIGHT
DTSTART:20230312T030000
TZNAME:CDT
TZOFFSETFROM:-0600
TZOFFSETTO:-0500
END:DAYLIGHT
END:VTIMEZONE
END:VCALENDAR
