BEGIN:VCALENDAR
VERSION:2.0
PRODID:-//Plone.org//NONSGML plone.app.event//EN
X-WR-TIMEZONE:US/Central
BEGIN:VEVENT
SUMMARY:Story Time with Renee Nolte
DTSTART;TZID=US/Central:20231010T103000
DTEND;TZID=US/Central:20231010T110000
DTSTAMP:20260422T090247Z
UID:6866f10c946943569d520e5d936cee1e@saas_stack_varnish:6080
CONTACT:409-986-7814\, hitchcockpubliclibrary@gmail.com
CREATED:20230928T183832Z
LAST-MODIFIED:20230928T183839Z
LOCATION:Hitchcock Public Library
URL:https://hitchcock.ploud.net/story-time-with-renee-nolte
END:VEVENT
BEGIN:VTIMEZONE
TZID:US/Central
X-LIC-LOCATION:US/Central
BEGIN:DAYLIGHT
DTSTART:20230312T030000
TZNAME:CDT
TZOFFSETFROM:-0600
TZOFFSETTO:-0500
END:DAYLIGHT
END:VTIMEZONE
END:VCALENDAR
