BEGIN:VCALENDAR
VERSION:2.0
PRODID:-//Plone.org//NONSGML plone.app.event//EN
X-WR-TIMEZONE:US/Central
BEGIN:VEVENT
SUMMARY:Story Time - St. Patrick's Day
DTSTART;TZID=US/Central:20240314T103000
DTEND;TZID=US/Central:20240314T110000
DTSTAMP:20260422T071801Z
UID:b2db51cbd1834a01aedb4c12791b856d@saas_stack_varnish:6080
CONTACT:Brittany Tatyrek\, 409-986-7814\, hitchcockpubliclibrary@gmail.com
CREATED:20240229T233619Z
LAST-MODIFIED:20240229T233625Z
LOCATION:Hitchcock Public Library
URL:https://hitchcock.ploud.net/story-time-st-patricks-day
END:VEVENT
BEGIN:VTIMEZONE
TZID:US/Central
X-LIC-LOCATION:US/Central
BEGIN:DAYLIGHT
DTSTART:20240310T030000
TZNAME:CDT
TZOFFSETFROM:-0600
TZOFFSETTO:-0500
END:DAYLIGHT
END:VTIMEZONE
END:VCALENDAR
