BEGIN:VCALENDAR
VERSION:2.0
PRODID:-//Plone.org//NONSGML plone.app.event//EN
X-WR-TIMEZONE:US/Central
BEGIN:VEVENT
SUMMARY:Story Time - Dr. Seuss
DTSTART;TZID=US/Central:20240229T103000
DTEND;TZID=US/Central:20240229T110000
DTSTAMP:20260422T083140Z
UID:2e53bac7fbee4daf87a9066cbc6fd86f@saas_stack_varnish:6080
CONTACT:Brittany Tatyrek\, 409-986-7814\, hitchcockpubliclibrary@gmail.com
CREATED:20240123T201136Z
LAST-MODIFIED:20240123T201141Z
LOCATION:Hitchcock Public Library
URL:https://hitchcock.ploud.net/story-time-dr-seuss
END:VEVENT
BEGIN:VTIMEZONE
TZID:US/Central
X-LIC-LOCATION:US/Central
BEGIN:STANDARD
DTSTART:20231105T010000
TZNAME:CST
TZOFFSETFROM:-0500
TZOFFSETTO:-0600
END:STANDARD
END:VTIMEZONE
END:VCALENDAR
