BEGIN:VCALENDAR
VERSION:2.0
PRODID:-//Plone.org//NONSGML plone.app.event//EN
X-WR-TIMEZONE:US/Central
BEGIN:VEVENT
SUMMARY:Story Time - Animals
DTSTART;TZID=US/Central:20240215T103000
DTEND;TZID=US/Central:20240215T113000
DTSTAMP:20260422T071008Z
UID:a8375d750aef4045979f94e041ae3f40@saas_stack_varnish:6080
CONTACT:Brittany Tatyrek\, 409-986-7814\, hitchcockpubliclibrary@gmail.com
CREATED:20240123T200643Z
LAST-MODIFIED:20240201T155553Z
LOCATION:Hitchcock Public Library
URL:https://hitchcock.ploud.net/story-time-animals
END:VEVENT
BEGIN:VTIMEZONE
TZID:US/Central
X-LIC-LOCATION:US/Central
BEGIN:STANDARD
DTSTART:20231105T010000
TZNAME:CST
TZOFFSETFROM:-0500
TZOFFSETTO:-0600
END:STANDARD
END:VTIMEZONE
END:VCALENDAR
