BEGIN:VCALENDAR
VERSION:2.0
PRODID:-//Plone.org//NONSGML plone.app.event//EN
X-WR-TIMEZONE:US/Central
BEGIN:VEVENT
SUMMARY:STEAM Day
DTSTART;TZID=US/Central:20240411T170000
DTEND;TZID=US/Central:20240411T180000
DTSTAMP:20260422T052702Z
UID:8143ba63846841c49560fc4386d09ecc@saas_stack_varnish:6080
CONTACT:Brittany Tatyrek\, 409-986-7814\, hitchcockpubliclibrary@gmail.com
CREATED:20240402T164317Z
LAST-MODIFIED:20240404T162425Z
LOCATION:Hitchcock Public Library
URL:https://hitchcock.ploud.net/steam-day-7
END:VEVENT
BEGIN:VTIMEZONE
TZID:US/Central
X-LIC-LOCATION:US/Central
BEGIN:DAYLIGHT
DTSTART:20240310T030000
TZNAME:CDT
TZOFFSETFROM:-0600
TZOFFSETTO:-0500
END:DAYLIGHT
END:VTIMEZONE
END:VCALENDAR
