BEGIN:VCALENDAR
VERSION:2.0
PRODID:-//Plone.org//NONSGML plone.app.event//EN
X-WR-TIMEZONE:US/Central
BEGIN:VEVENT
SUMMARY:STEAM Day
DTSTART;TZID=US/Central:20240208T170000
DTEND;TZID=US/Central:20240208T180000
DTSTAMP:20260424T101935Z
UID:c784ef72914d449099cd1f17486120c0@saas_stack_varnish:6080
CONTACT:Brittany Tatyrek\, 409-986-7814\, hitchcockpubliclibrary@gmail.com
CREATED:20240123T183732Z
LAST-MODIFIED:20240123T183736Z
LOCATION:Hitchcock Public Library
URL:https://hitchcock.ploud.net/steam-day-5
END:VEVENT
BEGIN:VTIMEZONE
TZID:US/Central
X-LIC-LOCATION:US/Central
BEGIN:STANDARD
DTSTART:20231105T010000
TZNAME:CST
TZOFFSETFROM:-0500
TZOFFSETTO:-0600
END:STANDARD
END:VTIMEZONE
END:VCALENDAR
