BEGIN:VCALENDAR
VERSION:2.0
PRODID:-//Plone.org//NONSGML plone.app.event//EN
X-WR-TIMEZONE:US/Central
BEGIN:VEVENT
SUMMARY:STEAM Day
DTSTART;TZID=US/Central:20240111T170000
DTEND;TZID=US/Central:20240111T180000
DTSTAMP:20260424T101854Z
UID:c8501a593deb4c1c84143dc9acb276c7@saas_stack_varnish:6080
CONTACT:Brittany Tatyrek\, 409-986-7814\, hitchcockpubliclibrary@gmail.com
CREATED:20240103T190908Z
LAST-MODIFIED:20240103T190939Z
LOCATION:Hitchcock Public Library
URL:https://hitchcock.ploud.net/steam-day-4
END:VEVENT
BEGIN:VTIMEZONE
TZID:US/Central
X-LIC-LOCATION:US/Central
BEGIN:STANDARD
DTSTART:20231105T010000
TZNAME:CST
TZOFFSETFROM:-0500
TZOFFSETTO:-0600
END:STANDARD
END:VTIMEZONE
END:VCALENDAR
