BEGIN:VCALENDAR
VERSION:2.0
PRODID:-//Plone.org//NONSGML plone.app.event//EN
X-WR-TIMEZONE:US/Central
BEGIN:VEVENT
SUMMARY:SRP "The Reading Magic Show"
DTSTART;TZID=US/Central:20220705T140000
DTEND;TZID=US/Central:20220705T143000
DTSTAMP:20260422T070453Z
UID:f78849210f74469da1a4633075894ae0@saas_stack_varnish:6080
ATTENDEE;CN="Ages 1-12";ROLE=REQ-PARTICIPANT:Ages 1-12
CONTACT:Lin Rehm\, 409-986-7814\, hitchpl@comcast.net
CREATED:20220524T192350Z
LAST-MODIFIED:20220623T145909Z
LOCATION:Hitchcock public library
URL:https://hitchcock.ploud.net/srp-the-reading-magic-show
END:VEVENT
BEGIN:VTIMEZONE
TZID:US/Central
X-LIC-LOCATION:US/Central
BEGIN:DAYLIGHT
DTSTART:20220313T030000
TZNAME:CDT
TZOFFSETFROM:-0600
TZOFFSETTO:-0500
END:DAYLIGHT
END:VTIMEZONE
END:VCALENDAR
