BEGIN:VCALENDAR
VERSION:2.0
PRODID:-//Plone.org//NONSGML plone.app.event//EN
X-WR-TIMEZONE:US/Central
BEGIN:VEVENT
SUMMARY:SRP - Texas Snakes
DTSTART;TZID=US/Central:20230718T130000
DTEND;TZID=US/Central:20230718T140000
DTSTAMP:20260422T070821Z
UID:37975e75d0094928a73af75fe6fb5b52@saas_stack_varnish:6080
CONTACT:409-986-7814\, hitchcockpubliclibrary@gmail.com
CREATED:20230511T195518Z
LAST-MODIFIED:20230511T195525Z
LOCATION:Hitchcock Public Library
URL:https://hitchcock.ploud.net/srp-texas-snakes
END:VEVENT
BEGIN:VTIMEZONE
TZID:US/Central
X-LIC-LOCATION:US/Central
BEGIN:DAYLIGHT
DTSTART:20230312T030000
TZNAME:CDT
TZOFFSETFROM:-0600
TZOFFSETTO:-0500
END:DAYLIGHT
END:VTIMEZONE
END:VCALENDAR
