BEGIN:VCALENDAR
VERSION:2.0
PRODID:-//Plone.org//NONSGML plone.app.event//EN
X-WR-TIMEZONE:US/Central
BEGIN:VEVENT
SUMMARY:SRP - Safety w/ Hitchcock Police Dept.
DTSTART;TZID=US/Central:20230623T130000
DTEND;TZID=US/Central:20230623T140000
DTSTAMP:20260422T103641Z
UID:698252499e974b1dbda6b58d07a5bdc1@saas_stack_varnish:6080
CONTACT:409-986-7814\, hitchcockpubliclibrary@gmail.com
CREATED:20230511T180949Z
LAST-MODIFIED:20230511T181301Z
LOCATION:Hitchcock Public Library
URL:https://hitchcock.ploud.net/srp-safety-w-hitchcock-police-dept
END:VEVENT
BEGIN:VTIMEZONE
TZID:US/Central
X-LIC-LOCATION:US/Central
BEGIN:DAYLIGHT
DTSTART:20230312T030000
TZNAME:CDT
TZOFFSETFROM:-0600
TZOFFSETTO:-0500
END:DAYLIGHT
END:VTIMEZONE
END:VCALENDAR
