BEGIN:VCALENDAR
VERSION:2.0
PRODID:-//Plone.org//NONSGML plone.app.event//EN
X-WR-TIMEZONE:US/Central
BEGIN:VEVENT
SUMMARY:SRP " Puppet Pizzazz" Extravaganza
DTSTART;TZID=US/Central:20220628T140000
DTEND;TZID=US/Central:20220628T143000
DTSTAMP:20260422T071802Z
UID:fbfce5568bce4a8c9fbcb35b1d5aa077@saas_stack_varnish:6080
ATTENDEE;CN="Ages 1-12";ROLE=REQ-PARTICIPANT:Ages 1-12
CONTACT:Lin Rehm\, 409-986-7814\, hitchpl@comcast.net
CREATED:20220524T173602Z
LAST-MODIFIED:20220623T145822Z
LOCATION:Hitchcock public library
URL:https://hitchcock.ploud.net/srp-puppet-pizzazz-extravaganza
END:VEVENT
BEGIN:VTIMEZONE
TZID:US/Central
X-LIC-LOCATION:US/Central
BEGIN:DAYLIGHT
DTSTART:20220313T030000
TZNAME:CDT
TZOFFSETFROM:-0600
TZOFFSETTO:-0500
END:DAYLIGHT
END:VTIMEZONE
END:VCALENDAR
