BEGIN:VCALENDAR
VERSION:2.0
PRODID:-//Plone.org//NONSGML plone.app.event//EN
X-WR-TIMEZONE:US/Central
BEGIN:VEVENT
SUMMARY:SRP "Paper Dinosaurs"
DTSTART;TZID=US/Central:20220630T140000
DTEND;TZID=US/Central:20220630T143000
DTSTAMP:20260422T070101Z
UID:94967a3a320e4a839ee70ae2e2d6319d@saas_stack_varnish:6080
ATTENDEE;CN="Ages 1-12";ROLE=REQ-PARTICIPANT:Ages 1-12
CONTACT:Lin Rehm\, 409-986-7814\, hitchpl@comcast.net
CREATED:20220524T184344Z
LAST-MODIFIED:20220623T145842Z
LOCATION:Hitchcock public library
URL:https://hitchcock.ploud.net/srp-paper-dinosaurs
END:VEVENT
BEGIN:VTIMEZONE
TZID:US/Central
X-LIC-LOCATION:US/Central
BEGIN:DAYLIGHT
DTSTART:20220313T030000
TZNAME:CDT
TZOFFSETFROM:-0600
TZOFFSETTO:-0500
END:DAYLIGHT
END:VTIMEZONE
END:VCALENDAR
