BEGIN:VCALENDAR
VERSION:2.0
PRODID:-//Plone.org//NONSGML plone.app.event//EN
X-WR-TIMEZONE:US/Central
BEGIN:VEVENT
SUMMARY:SRP - Mad Science - Chem-mystery
DTSTART;TZID=US/Central:20230620T130000
DTEND;TZID=US/Central:20230620T140000
DTSTAMP:20260422T084907Z
UID:bb2a5f0f20d74ba886420c7d9ace65b3@saas_stack_varnish:6080
CONTACT:409-986-7814\, hitchcockpubliclibrary@gmail.com
CREATED:20230511T180126Z
LAST-MODIFIED:20230511T180131Z
LOCATION:Hitchcock Public Library
URL:https://hitchcock.ploud.net/srp-mad-science-chem-mystery
END:VEVENT
BEGIN:VTIMEZONE
TZID:US/Central
X-LIC-LOCATION:US/Central
BEGIN:DAYLIGHT
DTSTART:20230312T030000
TZNAME:CDT
TZOFFSETFROM:-0600
TZOFFSETTO:-0500
END:DAYLIGHT
END:VTIMEZONE
END:VCALENDAR
