BEGIN:VCALENDAR
VERSION:2.0
PRODID:-//Plone.org//NONSGML plone.app.event//EN
X-WR-TIMEZONE:US/Central
BEGIN:VEVENT
SUMMARY:SRP - Mad About Hoops
DTSTART;TZID=US/Central:20230711T130000
DTEND;TZID=US/Central:20230711T140000
DTSTAMP:20260422T090058Z
UID:6128cbacf72a49799691c201b17336df@saas_stack_varnish:6080
CONTACT:409-986-7814\, hitchcockpubliclibrary@gmail.com
CREATED:20230511T194007Z
LAST-MODIFIED:20230511T194543Z
LOCATION:Hitchcock Public Library
URL:https://hitchcock.ploud.net/srp-mad-about-hoops-1
END:VEVENT
BEGIN:VTIMEZONE
TZID:US/Central
X-LIC-LOCATION:US/Central
BEGIN:DAYLIGHT
DTSTART:20230312T030000
TZNAME:CDT
TZOFFSETFROM:-0600
TZOFFSETTO:-0500
END:DAYLIGHT
END:VTIMEZONE
END:VCALENDAR
