BEGIN:VCALENDAR
VERSION:2.0
PRODID:-//Plone.org//NONSGML plone.app.event//EN
X-WR-TIMEZONE:US/Central
BEGIN:VEVENT
SUMMARY:SRP "Game Day"
DTSTART;TZID=US/Central:20220720T140000
DTEND;TZID=US/Central:20220720T143000
DTSTAMP:20260422T070101Z
UID:fb668e58b74c459db041096b4da8da84@saas_stack_varnish:6080
ATTENDEE;CN="Ages 1-12";ROLE=REQ-PARTICIPANT:Ages 1-12
CONTACT:Lin Rehm\, 409-986-7814\, hitchpl@comcast.net
CREATED:20220525T213041Z
LAST-MODIFIED:20220623T150122Z
LOCATION:Hitchcock public library
URL:https://hitchcock.ploud.net/srp-game-day-1
END:VEVENT
BEGIN:VTIMEZONE
TZID:US/Central
X-LIC-LOCATION:US/Central
BEGIN:DAYLIGHT
DTSTART:20220313T030000
TZNAME:CDT
TZOFFSETFROM:-0600
TZOFFSETTO:-0500
END:DAYLIGHT
END:VTIMEZONE
END:VCALENDAR
