BEGIN:VCALENDAR
VERSION:2.0
PRODID:-//Plone.org//NONSGML plone.app.event//EN
X-WR-TIMEZONE:US/Central
BEGIN:VEVENT
SUMMARY:SRP - Galveston Bay Ambassadors
DTSTART;TZID=US/Central:20230627T130000
DTEND;TZID=US/Central:20230627T140000
DTSTAMP:20260422T084929Z
UID:20df2e4362e144d88058bf7462475d32@saas_stack_varnish:6080
CONTACT:409-986-7814\, hitchcockpubliclibrary@gmail.com
CREATED:20230511T181633Z
LAST-MODIFIED:20230511T181645Z
LOCATION:Hitchcock Public Library
URL:https://hitchcock.ploud.net/srp-galveston-bay-ambassadors
END:VEVENT
BEGIN:VTIMEZONE
TZID:US/Central
X-LIC-LOCATION:US/Central
BEGIN:DAYLIGHT
DTSTART:20230312T030000
TZNAME:CDT
TZOFFSETFROM:-0600
TZOFFSETTO:-0500
END:DAYLIGHT
END:VTIMEZONE
END:VCALENDAR
