BEGIN:VCALENDAR
VERSION:2.0
PRODID:-//Plone.org//NONSGML plone.app.event//EN
X-WR-TIMEZONE:US/Central
BEGIN:VEVENT
SUMMARY:SRP - Father's Day Craft
DTSTART;TZID=US/Central:20230615T130000
DTEND;TZID=US/Central:20230615T140000
DTSTAMP:20260422T071746Z
UID:f2479889e37347f29f79fe552c5951f7@saas_stack_varnish:6080
CONTACT:409-986-7814\, hitchcockpubliclibrary@gmail.com
CREATED:20230511T175351Z
LAST-MODIFIED:20230511T175356Z
LOCATION:Hitchcock Public Library
URL:https://hitchcock.ploud.net/srp-fathers-day-craft
END:VEVENT
BEGIN:VTIMEZONE
TZID:US/Central
X-LIC-LOCATION:US/Central
BEGIN:DAYLIGHT
DTSTART:20230312T030000
TZNAME:CDT
TZOFFSETFROM:-0600
TZOFFSETTO:-0500
END:DAYLIGHT
END:VTIMEZONE
END:VCALENDAR
